BEGIN:VCALENDAR
VERSION:2.0
CALSCALE:GREGORIAN
PRODID:adamgibbons/ics
METHOD:PUBLISH
X-PUBLISHED-TTL:PT1H
BEGIN:VEVENT
UID:305@event.cologne
SUMMARY:Lidl Final4
DTSTAMP:20260420T181529Z
DTSTART:20260418T170000Z
DTEND:20260419T200000Z
DESCRIPTION:Innenstadt\n\nDe vier besten Teams Deutschlands treffen aufeina
	nder\, um den neuen Pokalsieger\nunter sich auszuspielen.\n\nSamstag\, 18.
	 April 2026 13:45 Uhr: Einlass: Sonntag\, 19. April 2026 10:45 Uhr:\nEinla
	ss:\n\nDie Ticketpreise entnehmen Sie bitte der Internetseite des Veransta
	lters.
URL:https://event.cologne/event/lidl-final4
GEO:50.9382;6.98153
LOCATION:LANXESS arena - Willy-Brandt-Platz \, 50679 Köln
STATUS:CONFIRMED
CATEGORIES:Innenstadt,Sport
X-ALT-DESC;FMTTYPE=text/html:<p><strong>Innenstadt</strong></p><p>De vier b
	esten Teams Deutschlands treffen aufeinander, um den neuen Pokalsieger unt
	er sich auszuspielen.</p><p>Samstag, 18. April 2026 13:45 Uhr: <strong>Ein
	lass:</strong> Sonntag, 19. April 2026 10:45 Uhr: <strong>Einlass:</strong
	> </p><p>Die Ticketpreise entnehmen Sie bitte der Internetseite des Verans
	talters.</p>
BEGIN:VALARM
ACTION:DISPLAY
DESCRIPTION:Lidl Final4
TRIGGER:-PT1H
END:VALARM
END:VEVENT
END:VCALENDAR
