BEGIN:VCALENDAR
VERSION:2.0
CALSCALE:GREGORIAN
PRODID:adamgibbons/ics
METHOD:PUBLISH
X-PUBLISHED-TTL:PT1H
BEGIN:VEVENT
UID:188@event.cologne
SUMMARY:Licht in dunklen Zeiten - Ausstellung
DTSTAMP:20260420T182145Z
DTSTART:20250403T170000Z
DTEND:20260412T200000Z
DESCRIPTION:Innenstadt\n\nMittelalterliche Glasmalerei aus dem Khanenko Mus
	eum in Kyjiw\n\nDienstag\, Mittwoch und Freitag bis Sonntag von 10 bis 18 
	Uhr\, Donnerstag von 10\nbis 20 Uhr. Sonderöffnungszeiten entnehmen Sie bi
	tte der Internetseite des\nMuseums.\n\nEinzelticket Sammlung: 6 Euro\, erm
	äßigt: 3\,50 Euro. Spezielle Angebote finden\nSie auf der Internetseite de
	s Museums.
URL:https://event.cologne/event/licht-in-dunklen-zeiten-ausstellung
LOCATION:Museum Schnütgen - Cäcilienstraße 29-33\, 50667 Köln
STATUS:CONFIRMED
CATEGORIES:Ausstellung,Innenstadt
X-ALT-DESC;FMTTYPE=text/html:<p><strong>Innenstadt</strong></p><p>Mittelalt
	erliche Glasmalerei aus dem Khanenko Museum in Kyjiw</p><p>Dienstag, Mittw
	och und Freitag bis Sonntag von 10 bis 18 Uhr, Donnerstag von 10 bis 20 Uh
	r. Sonderöffnungszeiten entnehmen Sie bitte der Internetseite des Museums.
	</p><p>Einzelticket Sammlung: 6 Euro, ermäßigt: 3,50 Euro. Spezielle Angeb
	ote finden Sie auf der Internetseite des Museums.</p>
BEGIN:VALARM
ACTION:DISPLAY
DESCRIPTION:Licht in dunklen Zeiten - Ausstellung
TRIGGER:-PT1H
END:VALARM
END:VEVENT
END:VCALENDAR
