BEGIN:VCALENDAR
VERSION:2.0
CALSCALE:GREGORIAN
PRODID:adamgibbons/ics
METHOD:PUBLISH
X-PUBLISHED-TTL:PT1H
BEGIN:VEVENT
UID:24@event.cologne
SUMMARY:Let Me Entertain You – The Robbie Williams Show
DTSTAMP:20260420T182331Z
DTSTART:20260326T180000Z
DTEND:20260326T180000Z
DESCRIPTION:by the Robbie Experience
URL:https://event.cologne/event/let-me-entertain-you-the-robbie-williams-sh
	ow
GEO:50.9459;6.97042
LOCATION:Tanzbrunnen - Rheinparkweg 1\, 50679 Köln
STATUS:CONFIRMED
CATEGORIES:
X-ALT-DESC;FMTTYPE=text/html:<p>by the Robbie Experience</p>
BEGIN:VALARM
ACTION:DISPLAY
DESCRIPTION:Let Me Entertain You – The Robbie Williams Show
TRIGGER:-PT1H
END:VALARM
END:VEVENT
END:VCALENDAR
