BEGIN:VCALENDAR
VERSION:2.0
CALSCALE:GREGORIAN
PRODID:adamgibbons/ics
METHOD:PUBLISH
X-PUBLISHED-TTL:PT1H
BEGIN:VEVENT
UID:785@event.cologne
SUMMARY:LeseWelten am Dienstag
DTSTAMP:20260425T102944Z
DTSTART:20260609T143000Z
DTEND:20260609T150000Z
DESCRIPTION:Eine Kinderlesung in Zusammenarbeit mit LeseWelten Köln in der\
	nStadtteilbibliothek Kalk.\n\n16:30 bis 17 Uhr\n\nDie Veranstaltung ist ko
	stenfrei.
URL:https://event.cologne/event/lesewelten-am-dienstag-8
GEO:50.9394;7.00844
LOCATION:Stadtteilbibliothek Kalk - Kalker Hauptstraße 247-273\, 51103 Köln
STATUS:CONFIRMED
CATEGORIES:Kalk,Lesung
X-ALT-DESC;FMTTYPE=text/html:<p>Eine Kinderlesung in Zusammenarbeit mit Les
	eWelten Köln in der Stadtteilbibliothek Kalk.</p><p>16:30 bis 17 Uhr</p><p
	>Die Veranstaltung ist kostenfrei.</p>
BEGIN:VALARM
ACTION:DISPLAY
DESCRIPTION:LeseWelten am Dienstag
TRIGGER:-PT1H
END:VALARM
END:VEVENT
END:VCALENDAR
