BEGIN:VCALENDAR
VERSION:2.0
CALSCALE:GREGORIAN
PRODID:adamgibbons/ics
METHOD:PUBLISH
X-PUBLISHED-TTL:PT1H
BEGIN:VEVENT
UID:745@event.cologne
SUMMARY:LeseWelten
DTSTAMP:20260422T101004Z
DTSTART:20260606T093000Z
DTEND:20260606T100000Z
DESCRIPTION:Bilderbuchgeschichten für Kinder ab 3 Jahren im Interim Zentral
	bibliothek.\n\n11:30 bis 12 Uhr\n\nDie Teilnahme ist kostenlos.
URL:https://event.cologne/event/lesewelten-23
GEO:50.9371;6.95656
LOCATION:Interim Zentralbibliothek - Hohe Straße 68-82\, 50667 Köln
STATUS:CONFIRMED
CATEGORIES:EintrittFrei,Innenstadt,Lesung
X-ALT-DESC;FMTTYPE=text/html:<p>Bilderbuchgeschichten für Kinder ab 3 Jahre
	n im Interim Zentralbibliothek.</p><p>11:30 bis 12 Uhr</p><p>Die Teilnahme
	 ist kostenlos.</p>
BEGIN:VALARM
ACTION:DISPLAY
DESCRIPTION:LeseWelten
TRIGGER:-PT1H
END:VALARM
END:VEVENT
END:VCALENDAR
