BEGIN:VCALENDAR
VERSION:2.0
CALSCALE:GREGORIAN
PRODID:adamgibbons/ics
METHOD:PUBLISH
X-PUBLISHED-TTL:PT1H
BEGIN:VEVENT
UID:276@event.cologne
SUMMARY:Kunterbunte Ferien mit den Juppis
DTSTAMP:20260420T181833Z
DTSTART:20260330T110000Z
DTEND:20260402T160000Z
DESCRIPTION:Kalk\n\nOsterferienprogramm im Bürgerpark Kalk\n\n13 bis 18 Uhr
	\n\nDie Veranstaltung ist kostenfrei.
URL:https://event.cologne/event/kunterbunte-ferien-mit-den-juppis
GEO:50.9403;6.9962
LOCATION:Bürgerpark Kalk - Barcelona-Allee \, 51103 Köln
STATUS:CONFIRMED
CATEGORIES:Familie,Kalk
X-ALT-DESC;FMTTYPE=text/html:<p><strong>Kalk</strong></p><p>Osterferienprog
	ramm im Bürgerpark Kalk</p><p>13 bis 18 Uhr</p><p>Die Veranstaltung ist ko
	stenfrei.</p>
BEGIN:VALARM
ACTION:DISPLAY
DESCRIPTION:Kunterbunte Ferien mit den Juppis
TRIGGER:-PT1H
END:VALARM
END:VEVENT
END:VCALENDAR
