BEGIN:VCALENDAR
VERSION:2.0
CALSCALE:GREGORIAN
PRODID:adamgibbons/ics
METHOD:PUBLISH
X-PUBLISHED-TTL:PT1H
BEGIN:VEVENT
UID:286@event.cologne
SUMMARY:Küchenpartie mit peb – Generationsübergreifendes Kochen
DTSTAMP:20260420T182317Z
DTSTART:20260407T080000Z
DTEND:20260410T120000Z
DESCRIPTION:Innenstadt\, EintrittFrei\n\nKochen macht Spaß und kann ganz ei
	nfach sein!\n\n10 bis 14 Uhr\n\nDie Veranstaltung ist kostenfrei
URL:https://event.cologne/event/kuchenpartie-mit-peb-generationsubergreifen
	des-kochen-1
GEO:50.9353;6.94837
LOCATION:Gesundheitsamt der Stadt Köln - Neumarkt 15-21\, 50667 Köln
STATUS:CONFIRMED
CATEGORIES:EintrittFrei,Familie,Innenstadt
X-ALT-DESC;FMTTYPE=text/html:<p><strong>Innenstadt, EintrittFrei</strong></
	p><p>Kochen macht Spaß und kann ganz einfach sein!</p><p>10 bis 14 Uhr</p>
	<p>Die Veranstaltung ist kostenfrei</p>
BEGIN:VALARM
ACTION:DISPLAY
DESCRIPTION:Küchenpartie mit peb – Generationsübergreifendes Kochen
TRIGGER:-PT1H
END:VALARM
END:VEVENT
END:VCALENDAR
