BEGIN:VCALENDAR
VERSION:2.0
CALSCALE:GREGORIAN
PRODID:adamgibbons/ics
METHOD:PUBLISH
X-PUBLISHED-TTL:PT1H
BEGIN:VEVENT
UID:391@event.cologne
SUMMARY:Kreativwerkstatt Digital Making Place – ausprobieren\, inspirieren\
	, Schule neu entdecken – Fokus: Spielewelten gestalten und entdecken
DTSTAMP:20260420T182354Z
DTSTART:20260416T103000Z
DTEND:20260416T143000Z
DESCRIPTION:Mülheim\, EintrittFrei\n\nFür Lehrkräfte und pädagogische Fachk
	räfte an Kölner Schulen\n\n12:30 bis 16:30 Uhr\n\nDie Teilnahme ist kosten
	los.
URL:https://event.cologne/event/kreativwerkstatt-digital-making-place-auspr
	obieren-inspirieren-schule-neu-entdecken-fokus-spielewelten-gestalten-und-
	entdecken
LOCATION:KOMEZ – Kommunales Medienzentrum Köln - Peter-Huppertz-Straße 7 \,
	 51063 Köln
STATUS:CONFIRMED
CATEGORIES:EintrittFrei,Mülheim
X-ALT-DESC;FMTTYPE=text/html:<p><strong>Mülheim, EintrittFrei</strong></p><
	p>Für Lehrkräfte und pädagogische Fachkräfte an Kölner Schulen</p><p>12:30
	 bis 16:30 Uhr</p><p>Die Teilnahme ist kostenlos.</p>
BEGIN:VALARM
ACTION:DISPLAY
DESCRIPTION:Kreativwerkstatt Digital Making Place – ausprobieren, inspirier
	en, Schule neu entdecken – Fokus: Spielewelten gestalten und entdecken
TRIGGER:-PT1H
END:VALARM
END:VEVENT
END:VCALENDAR
