BEGIN:VCALENDAR
VERSION:2.0
CALSCALE:GREGORIAN
PRODID:adamgibbons/ics
METHOD:PUBLISH
X-PUBLISHED-TTL:PT1H
BEGIN:VEVENT
UID:351@event.cologne
SUMMARY:Kreativwerkstatt Digital Making Place – ausprobieren\, inspirieren\
	, Schule neu entdecken – Fokus: Inklusives Making
DTSTAMP:20260420T182354Z
DTSTART:20260326T113000Z
DTEND:20260326T153000Z
DESCRIPTION:Mülheim\, EintrittFrei\n\nFür Lehrkräfte und pädagogische Fachk
	räfte an Schulen\n\n12:30 bis 16:30 Uhr\n\nDie Teilnahme ist kostenlos.
URL:https://event.cologne/event/kreativwerkstatt-digital-making-place-auspr
	obieren-inspirieren-schule-neu-entdecken-fokus-inklusives-making
LOCATION:KOMEZ – Kommunales Medienzentrum Köln - Peter-Huppertz-Straße 7 \,
	 51063 Köln
STATUS:CONFIRMED
CATEGORIES:EintrittFrei,Mülheim
X-ALT-DESC;FMTTYPE=text/html:<p><strong>Mülheim, EintrittFrei</strong></p><
	p>Für Lehrkräfte und pädagogische Fachkräfte an Schulen</p><p>12:30 bis 16
	:30 Uhr</p><p>Die Teilnahme ist kostenlos.</p>
BEGIN:VALARM
ACTION:DISPLAY
DESCRIPTION:Kreativwerkstatt Digital Making Place – ausprobieren, inspirier
	en, Schule neu entdecken – Fokus: Inklusives Making
TRIGGER:-PT1H
END:VALARM
END:VEVENT
END:VCALENDAR
