BEGIN:VCALENDAR
VERSION:2.0
CALSCALE:GREGORIAN
PRODID:adamgibbons/ics
METHOD:PUBLISH
X-PUBLISHED-TTL:PT1H
BEGIN:VEVENT
UID:787@event.cologne
SUMMARY:Kreativwerkstatt Digital Making Place – ausprobieren\, inspirieren\
	, Schule neu entdecken – Fokus: 3D Welten
DTSTAMP:20260425T104213Z
DTSTART:20260609T103000Z
DTEND:20260609T143000Z
DESCRIPTION:Für Lehrkräfte und pädagogische Fachkräfte an Kölner Schulen\n\
	n12:30 bis 16:30 Uhr\n\nDie Teilnahme ist kostenlos.
URL:https://event.cologne/event/kreativwerkstatt-digital-making-place-auspr
	obieren-inspirieren-schule-neu-entdecken-fokus-3d-welten
LOCATION:KOMEZ – Kommunales Medienzentrum Köln - Peter-Huppertz-Straße 7 \,
	 51063 Köln
STATUS:CONFIRMED
CATEGORIES:EintrittFrei,Mülheim
X-ALT-DESC;FMTTYPE=text/html:<p>Für Lehrkräfte und pädagogische Fachkräfte 
	an Kölner Schulen</p><p>12:30 bis 16:30 Uhr</p><p>Die Teilnahme ist kosten
	los.</p>
BEGIN:VALARM
ACTION:DISPLAY
DESCRIPTION:Kreativwerkstatt Digital Making Place – ausprobieren, inspirier
	en, Schule neu entdecken – Fokus: 3D Welten
TRIGGER:-PT1H
END:VALARM
END:VEVENT
END:VCALENDAR
