BEGIN:VCALENDAR
VERSION:2.0
CALSCALE:GREGORIAN
PRODID:adamgibbons/ics
METHOD:PUBLISH
X-PUBLISHED-TTL:PT1H
BEGIN:VEVENT
UID:332@event.cologne
SUMMARY:Kreative Grußkarten gestalten
DTSTAMP:20260420T181802Z
DTSTART:20260319T150000Z
DTEND:20260319T170000Z
DESCRIPTION:Chorweiler\, EintrittFrei\n\nKarten selber stanzen und gestalte
	n - in der Stadtteilbibliothek Chorweiler\n\n16 bis 18 Uhr\n\nDie Teilnahm
	e ist kostenlos.
URL:https://event.cologne/event/kreative-grusskarten-gestalten
GEO:51.0226;6.89969
LOCATION:Stadtteilbibliothek Chorweiler - Pariser Platz 1\, 50765 Köln
STATUS:CONFIRMED
CATEGORIES:Chorweiler,EintrittFrei
X-ALT-DESC;FMTTYPE=text/html:<p><strong>Chorweiler, EintrittFrei</strong></
	p><p>Karten selber stanzen und gestalten - in der Stadtteilbibliothek Chor
	weiler</p><p>16 bis 18 Uhr</p><p>Die Teilnahme ist kostenlos.</p>
BEGIN:VALARM
ACTION:DISPLAY
DESCRIPTION:Kreative Grußkarten gestalten
TRIGGER:-PT1H
END:VALARM
END:VEVENT
END:VCALENDAR
