BEGIN:VCALENDAR
VERSION:2.0
CALSCALE:GREGORIAN
PRODID:adamgibbons/ics
METHOD:PUBLISH
X-PUBLISHED-TTL:PT1H
BEGIN:VEVENT
UID:265@event.cologne
SUMMARY:Kreativ-Tag
DTSTAMP:20260420T181657Z
DTSTART:20260319T150000Z
DTEND:20260319T170000Z
DESCRIPTION:Porz\, EintrittFrei\n\nBügelperlen-Spaß in der Stadtteilbibliot
	hek Porz.\n\n16 bis 18 Uhr\n\nDie Teilnahme ist kostenlos.
URL:https://event.cologne/event/kreativ-tag
GEO:50.885;7.05522
LOCATION:Stadtteilbibliothek Porz - Alfred-Moritz-Platz 1\, 51143 Köln
STATUS:CONFIRMED
CATEGORIES:EintrittFrei,Familie,Porz
X-ALT-DESC;FMTTYPE=text/html:<p><strong>Porz, EintrittFrei</strong></p><p>B
	ügelperlen-Spaß in der Stadtteilbibliothek Porz.</p><p>16 bis 18 Uhr</p><p
	>Die Teilnahme ist kostenlos.</p>
BEGIN:VALARM
ACTION:DISPLAY
DESCRIPTION:Kreativ-Tag
TRIGGER:-PT1H
END:VALARM
END:VEVENT
END:VCALENDAR
