BEGIN:VCALENDAR
VERSION:2.0
CALSCALE:GREGORIAN
PRODID:adamgibbons/ics
METHOD:PUBLISH
X-PUBLISHED-TTL:PT1H
BEGIN:VEVENT
UID:140@event.cologne
SUMMARY:KölnWein Frühling 2026 – 28. und 29. März 2026
DTSTAMP:20260420T182406Z
DTSTART:20260328T100000Z
DTEND:20260328T100000Z
DESCRIPTION:Köln Wein 2026 - Das persönliche Genießertreffen\nVorverkauf: €
	 18\,-\nTageskasse: € 20\,-\nZutritt für Personen ab dem vollendeten 21. L
	ebensjahr.\nKinder frei.\nDer Eintritt beinhaltet die Verkostung der anwes
	enden Weine und einen Katalog\nmit Informationen über die Aussteller\, ihr
	e Erzeugnisse und ihre Empfehlungen.
URL:https://event.cologne/event/kolnwein-fruhling-2026-28-und-29-marz-2026
GEO:50.9366;6.95874
LOCATION:Gürzenich - Martinstraße 29-37\, 50667 Köln
STATUS:CONFIRMED
CATEGORIES:
X-ALT-DESC;FMTTYPE=text/html:<p>Köln Wein 2026 - Das persönliche Genießertr
	effen<br>Vorverkauf: € 18,-<br>Tageskasse: € 20,-<br>Zutritt für Personen 
	ab dem vollendeten 21. Lebensjahr.<br>Kinder frei.<br>Der Eintritt beinhal
	tet die Verkostung der anwesenden Weine und einen Katalog mit Informatione
	n über die Aussteller, ihre Erzeugnisse und ihre Empfehlungen.</p>
BEGIN:VALARM
ACTION:DISPLAY
DESCRIPTION:KölnWein Frühling 2026 – 28. und 29. März 2026
TRIGGER:-PT1H
END:VALARM
END:VEVENT
END:VCALENDAR
