BEGIN:VCALENDAR
VERSION:2.0
CALSCALE:GREGORIAN
PRODID:adamgibbons/ics
METHOD:PUBLISH
X-PUBLISHED-TTL:PT1H
BEGIN:VEVENT
UID:702@event.cologne
SUMMARY:Kölner Vorsorge- und Gesundheitstag
DTSTAMP:20260420T182100Z
DTSTART:20260530T080000Z
DTEND:20260530T150000Z
DESCRIPTION:Nippes\n\nKölner Vorsorge- und Gesundheitstag im Neven DuMont H
	aus veranstaltet von Kölner\nStadt-Anzeiger Medien und Senioren Servicedie
	nste Köln e.V.\n\n10 bis 17 Uhr\n\nDie Veranstaltung ist kostenfrei.
URL:https://event.cologne/event/kolner-vorsorge-und-gesundheitstag
LOCATION:Neven DuMont Haus - Amsterdamer Straße 192\, 50735 Köln
STATUS:CONFIRMED
CATEGORIES:Nippes,Vortrag
X-ALT-DESC;FMTTYPE=text/html:<p><strong>Nippes</strong></p><p>Kölner Vorsor
	ge- und Gesundheitstag im Neven DuMont Haus veranstaltet von Kölner Stadt-
	Anzeiger Medien und Senioren Servicedienste Köln e.V.</p><p>10 bis 17 Uhr<
	/p><p>Die Veranstaltung ist kostenfrei.</p>
BEGIN:VALARM
ACTION:DISPLAY
DESCRIPTION:Kölner Vorsorge- und Gesundheitstag
TRIGGER:-PT1H
END:VALARM
END:VEVENT
END:VCALENDAR
