BEGIN:VCALENDAR
VERSION:2.0
CALSCALE:GREGORIAN
PRODID:adamgibbons/ics
METHOD:PUBLISH
X-PUBLISHED-TTL:PT1H
BEGIN:VEVENT
UID:162@event.cologne
SUMMARY:Kölner FeriencampMesse 2026
DTSTAMP:20260420T181651Z
DTSTART:20260314T100000Z
DTEND:20260314T160000Z
DESCRIPTION:Innenstadt\n\nAuf dieser Messe finden Familien zahlreiche Veran
	stalter*innen\, die ihre\nAngebote für Ferien vorstellen.\n\n11 bis 17 Uhr
	\n\nDie Teilnahme ist kostenlos
URL:https://event.cologne/event/kolner-feriencampmesse-2026
GEO:50.9349;6.95065
LOCATION:Kölner VHS-Forum im Museum am Neumarkt - Cäcilienstraße  29-33\, 5
	0667 Köln
STATUS:CONFIRMED
CATEGORIES:Innenstadt
X-ALT-DESC;FMTTYPE=text/html:<p><strong>Innenstadt</strong></p><p>Auf diese
	r Messe finden Familien zahlreiche Veranstalter*innen, die ihre Angebote f
	ür Ferien vorstellen.</p><p>11 bis 17 Uhr</p><p>Die Teilnahme ist kostenlo
	s</p>
BEGIN:VALARM
ACTION:DISPLAY
DESCRIPTION:Kölner FeriencampMesse 2026
TRIGGER:-PT1H
END:VALARM
END:VEVENT
END:VCALENDAR
