BEGIN:VCALENDAR
VERSION:2.0
CALSCALE:GREGORIAN
PRODID:adamgibbons/ics
METHOD:PUBLISH
X-PUBLISHED-TTL:PT1H
BEGIN:VEVENT
UID:124@event.cologne
SUMMARY:Köln Olé 2026 – Die größte Mallorca Party-Tour der Welt
DTSTAMP:20260420T182402Z
DTSTART:20260919T100000Z
DTEND:20260919T100000Z
URL:https://event.cologne/event/koln-ole-2026-die-grosste-mallorca-party-to
	ur-der-welt
GEO:50.9459;6.97042
LOCATION:Tanzbrunnen - Rheinparkweg 1\, 50679 Köln
STATUS:CONFIRMED
CATEGORIES:
BEGIN:VALARM
ACTION:DISPLAY
DESCRIPTION:Köln Olé 2026 – Die größte Mallorca Party-Tour der Welt
TRIGGER:-PT1H
END:VALARM
END:VEVENT
END:VCALENDAR
