BEGIN:VCALENDAR
VERSION:2.0
CALSCALE:GREGORIAN
PRODID:adamgibbons/ics
METHOD:PUBLISH
X-PUBLISHED-TTL:PT1H
BEGIN:VEVENT
UID:253@event.cologne
SUMMARY:Köln: (K)ein Platz für Antisemitismus?
DTSTAMP:20260420T181726Z
DTSTART:20260421T140000Z
DTEND:20260421T153000Z
DESCRIPTION:Innenstadt\n\nVortrag mit Fachexpert*innen zu Hintergründen und
	 Handlungsmöglichkeiten zum\nThema Antisemitismus.\n\n16 bis 17:30 Uhr\n\n
	Die Teilnahme ist kostenfrei.
URL:https://event.cologne/event/koln-kein-platz-fur-antisemitismus
GEO:50.935;6.9499
LOCATION:VHS-Studienhaus am Neumarkt - Cäcilienstraße 35\, 50667 Köln
STATUS:CONFIRMED
CATEGORIES:Innenstadt,Vortrag
X-ALT-DESC;FMTTYPE=text/html:<p><strong>Innenstadt</strong></p><p>Vortrag m
	it Fachexpert*innen zu Hintergründen und Handlungsmöglichkeiten zum Thema 
	Antisemitismus.</p><p>16 bis 17:30 Uhr</p><p>Die Teilnahme ist kostenfrei.
	</p>
BEGIN:VALARM
ACTION:DISPLAY
DESCRIPTION:Köln: (K)ein Platz für Antisemitismus?
TRIGGER:-PT1H
END:VALARM
END:VEVENT
END:VCALENDAR
