BEGIN:VCALENDAR
VERSION:2.0
CALSCALE:GREGORIAN
PRODID:adamgibbons/ics
METHOD:PUBLISH
X-PUBLISHED-TTL:PT1H
BEGIN:VEVENT
UID:759@event.cologne
SUMMARY:Köln hört zu!
DTSTAMP:20260423T013224Z
DTSTART:20260512T090000Z
DTEND:20260512T103000Z
DESCRIPTION:Das Projekt „ZUHÖREN.DRAUSSEN.KÖLN“ im Interim der Zentralbibli
	othek.\n\n11 bis 12:30 Uhr\n\nDie Teilnahme ist kostenlos.
URL:https://event.cologne/event/koln-hort-zu-12
GEO:50.9371;6.95656
LOCATION:Interim Zentralbibliothek - Hohe Straße 68-82\, 50667 Köln
STATUS:CONFIRMED
CATEGORIES:EintrittFrei,Innenstadt,Wortveranstaltung
X-ALT-DESC;FMTTYPE=text/html:<p>Das Projekt „ZUHÖREN.DRAUSSEN.KÖLN“ im Inte
	rim der Zentralbibliothek.</p><p>11 bis 12:30 Uhr</p><p>Die Teilnahme ist 
	kostenlos.</p>
BEGIN:VALARM
ACTION:DISPLAY
DESCRIPTION:Köln hört zu!
TRIGGER:-PT1H
END:VALARM
END:VEVENT
END:VCALENDAR
