BEGIN:VCALENDAR
VERSION:2.0
CALSCALE:GREGORIAN
PRODID:adamgibbons/ics
METHOD:PUBLISH
X-PUBLISHED-TTL:PT1H
BEGIN:VEVENT
UID:122@event.cologne
SUMMARY:Köbes Underground
DTSTAMP:20260420T181529Z
DTSTART:20260904T170000Z
DTEND:20260904T170000Z
URL:https://event.cologne/event/kobes-underground
GEO:50.9459;6.97042
LOCATION:Tanzbrunnen - Rheinparkweg 1\, 50679 Köln
STATUS:CONFIRMED
CATEGORIES:
BEGIN:VALARM
ACTION:DISPLAY
DESCRIPTION:Köbes Underground
TRIGGER:-PT1H
END:VALARM
END:VEVENT
END:VCALENDAR
