BEGIN:VCALENDAR
VERSION:2.0
CALSCALE:GREGORIAN
PRODID:adamgibbons/ics
METHOD:PUBLISH
X-PUBLISHED-TTL:PT1H
BEGIN:VEVENT
UID:739@event.cologne
SUMMARY:Kinderkonzert mit SEM
DTSTAMP:20260422T100944Z
DTSTART:20260531T130000Z
DTEND:20260531T140000Z
DESCRIPTION:Familienfreundlicher Pop-Rock mit dem gewissen Etwas im Rahmen 
	von Sonntags in\nder Bibliothek im Interim der Zentralbibliothek\n\n15 bis
	 16 Uhr\n\nDie Veranstaltung ist kostenlos.
URL:https://event.cologne/event/kinderkonzert-mit-sem
GEO:50.9371;6.95656
LOCATION:Interim Zentralbibliothek - Hohe Straße 68-82\, 50667 Köln
STATUS:CONFIRMED
CATEGORIES:EintrittFrei,Innenstadt,Konzert
X-ALT-DESC;FMTTYPE=text/html:<p>Familienfreundlicher Pop-Rock mit dem gewis
	sen Etwas im Rahmen von Sonntags in der Bibliothek im Interim der Zentralb
	ibliothek</p><p>15 bis 16 Uhr</p><p>Die Veranstaltung ist kostenlos.</p>
BEGIN:VALARM
ACTION:DISPLAY
DESCRIPTION:Kinderkonzert mit SEM
TRIGGER:-PT1H
END:VALARM
END:VEVENT
END:VCALENDAR
