BEGIN:VCALENDAR
VERSION:2.0
CALSCALE:GREGORIAN
PRODID:adamgibbons/ics
METHOD:PUBLISH
X-PUBLISHED-TTL:PT1H
BEGIN:VEVENT
UID:389@event.cologne
SUMMARY:KI und Schule: Was Schulleitungen jetzt wissen müssen
DTSTAMP:20260420T182405Z
DTSTART:20260415T080000Z
DTEND:20260415T090000Z
DESCRIPTION:EintrittFrei\n\nFür Schulleitungen an Kölner Schulen\n\n10 bis 
	11 Uhr\n\nDie Teilnahme ist kostenlos.
URL:https://event.cologne/event/ki-und-schule-was-schulleitungen-jetzt-wiss
	en-mussen
LOCATION:Online-Veranstaltung - None None\, None None
STATUS:CONFIRMED
CATEGORIES:EintrittFrei
X-ALT-DESC;FMTTYPE=text/html:<p><strong>EintrittFrei</strong></p><p>Für Sch
	ulleitungen an Kölner Schulen</p><p>10 bis 11 Uhr</p><p>Die Teilnahme ist 
	kostenlos.</p>
BEGIN:VALARM
ACTION:DISPLAY
DESCRIPTION:KI und Schule: Was Schulleitungen jetzt wissen müssen
TRIGGER:-PT1H
END:VALARM
END:VEVENT
END:VCALENDAR
