BEGIN:VCALENDAR
VERSION:2.0
CALSCALE:GREGORIAN
PRODID:adamgibbons/ics
METHOD:PUBLISH
X-PUBLISHED-TTL:PT1H
BEGIN:VEVENT
UID:386@event.cologne
SUMMARY:KI im Unterricht – Tools und Methoden für den Einsatz mit Schüler*i
	nnen
DTSTAMP:20260420T182336Z
DTSTART:20260414T113000Z
DTEND:20260414T143000Z
DESCRIPTION:EintrittFrei\n\nFür Lehrkräfte und pädagogisches Personal an Kö
	lner Schulen\n\n13:30 bis 16:30 Uhr\n\nDie Teilnahme ist kostenlos.
URL:https://event.cologne/event/ki-im-unterricht-tools-und-methoden-fur-den
	-einsatz-mit-schulerinnen
LOCATION:Online-Veranstaltung - None None\, None None
STATUS:CONFIRMED
CATEGORIES:EintrittFrei
X-ALT-DESC;FMTTYPE=text/html:<p><strong>EintrittFrei</strong></p><p>Für Leh
	rkräfte und pädagogisches Personal an Kölner Schulen</p><p>13:30 bis 16:30
	 Uhr</p><p>Die Teilnahme ist kostenlos.</p>
BEGIN:VALARM
ACTION:DISPLAY
DESCRIPTION:KI im Unterricht – Tools und Methoden für den Einsatz mit Schül
	er*innen
TRIGGER:-PT1H
END:VALARM
END:VEVENT
END:VCALENDAR
