BEGIN:VCALENDAR
VERSION:2.0
CALSCALE:GREGORIAN
PRODID:adamgibbons/ics
METHOD:PUBLISH
X-PUBLISHED-TTL:PT1H
BEGIN:VEVENT
UID:85@event.cologne
SUMMARY:KEINE NACHT ZUHAUSE 2027
DTSTAMP:20260420T182206Z
DTSTART:20270205T170000Z
DTEND:20270205T170000Z
DESCRIPTION:Karneval\n\nDie Karnevalsparty der KNZ
URL:https://event.cologne/event/keine-nacht-zuhause-2027
GEO:50.9459;6.97042
LOCATION:Tanzbrunnen - Rheinparkweg 1\, 50679 Köln
STATUS:CONFIRMED
CATEGORIES:Karneval
X-ALT-DESC;FMTTYPE=text/html:<p><strong>Karneval</strong></p><p>Die Karneva
	lsparty der KNZ</p>
BEGIN:VALARM
ACTION:DISPLAY
DESCRIPTION:KEINE NACHT ZUHAUSE 2027
TRIGGER:-PT1H
END:VALARM
END:VEVENT
END:VCALENDAR
