BEGIN:VCALENDAR
VERSION:2.0
CALSCALE:GREGORIAN
PRODID:adamgibbons/ics
METHOD:PUBLISH
X-PUBLISHED-TTL:PT1H
BEGIN:VEVENT
UID:136@event.cologne
SUMMARY:Katrin Iskam – Gärtnern ohne viel Geschiss
DTSTAMP:20260420T182141Z
DTSTART:20260415T163000Z
DTEND:20260415T163000Z
DESCRIPTION:Bestuhlt
URL:https://event.cologne/event/katrin-iskam-gartnern-ohne-viel-geschiss
GEO:50.9602;6.97071
LOCATION:Flora - Am Botanischen Garten 1a\, 50735 Köln
STATUS:CONFIRMED
CATEGORIES:
X-ALT-DESC;FMTTYPE=text/html:<p>Bestuhlt</p>
BEGIN:VALARM
ACTION:DISPLAY
DESCRIPTION:Katrin Iskam – Gärtnern ohne viel Geschiss
TRIGGER:-PT1H
END:VALARM
END:VEVENT
END:VCALENDAR
