BEGIN:VCALENDAR
VERSION:2.0
CALSCALE:GREGORIAN
PRODID:adamgibbons/ics
METHOD:PUBLISH
X-PUBLISHED-TTL:PT1H
BEGIN:VEVENT
UID:187@event.cologne
SUMMARY:Kamelienausstellung
DTSTAMP:20260420T181540Z
DTSTART:20260115T180000Z
DTEND:20260329T140000Z
DESCRIPTION:Nippes\n\nFernöstlicher Blütenzauber im Botanischen Garten\n\nT
	äglich von 10 bis 16 Uhr\n\nDie Ausstellung in kostenlos
URL:https://event.cologne/event/kamelienausstellung
GEO:50.9592;6.97221
LOCATION:Flora und Botanischer Garten - Alter Stammheimer Weg (Haupteingang
	) \, 50735 Köln
STATUS:CONFIRMED
CATEGORIES:Ausstellung,Nippes
X-ALT-DESC;FMTTYPE=text/html:<p><strong>Nippes</strong></p><p>Fernöstlicher
	 Blütenzauber im Botanischen Garten</p><p>Täglich von 10 bis 16 Uhr</p><p>
	Die Ausstellung in kostenlos</p>
BEGIN:VALARM
ACTION:DISPLAY
DESCRIPTION:Kamelienausstellung
TRIGGER:-PT1H
END:VALARM
END:VEVENT
END:VCALENDAR
