BEGIN:VCALENDAR
VERSION:2.0
CALSCALE:GREGORIAN
PRODID:adamgibbons/ics
METHOD:PUBLISH
X-PUBLISHED-TTL:PT1H
BEGIN:VEVENT
UID:65@event.cologne
SUMMARY:Joel Brandenstein – Emotionen II Tour
DTSTAMP:20260420T182157Z
DTSTART:20260927T170000Z
DTEND:20260927T170000Z
URL:https://event.cologne/event/joel-brandenstein-emotionen-ii-tour
GEO:50.9459;6.97042
LOCATION:Tanzbrunnen - Rheinparkweg 1\, 50679 Köln
STATUS:CONFIRMED
CATEGORIES:
BEGIN:VALARM
ACTION:DISPLAY
DESCRIPTION:Joel Brandenstein – Emotionen II Tour
TRIGGER:-PT1H
END:VALARM
END:VEVENT
END:VCALENDAR
