BEGIN:VCALENDAR
VERSION:2.0
CALSCALE:GREGORIAN
PRODID:adamgibbons/ics
METHOD:PUBLISH
X-PUBLISHED-TTL:PT1H
BEGIN:VEVENT
UID:344@event.cologne
SUMMARY:Jobmesse Köln
DTSTAMP:20260420T181551Z
DTSTART:20260320T230000Z
DTEND:20260321T230000Z
DESCRIPTION:Ehrenfeld\n\nBesuchen Sie uns auf der Jobmesse Köln – Wir freue
	n uns\, mit Ihnen ins Gespräch\nzu kommen!\n\nSamstag\, 10 bis 16 Uhr Sonn
	tag\, 11 bis 17 Uhr\n\nEintritt: 5 Euro Eintritt frei: Schüler*innen\, Azu
	bis\, Studierende\,\nRentner*innen\, Menschen mit Behinderung und deren Be
	gleitung (Ausweismerkmal\n"B")\, Erwerbslose\, Transferleistungsbezieher*i
	nnen\, Kinder bis 14 Jahre (jeweils\nmit entsprechendem Nac
URL:https://event.cologne/event/jobmesse-koln
LOCATION:Motorworld Köln | Rheinland - Butzweilerstraße  35-39\, 50829 Köln
STATUS:CONFIRMED
CATEGORIES:Ehrenfeld
X-ALT-DESC;FMTTYPE=text/html:<p><strong>Ehrenfeld</strong></p><p>Besuchen S
	ie uns auf der Jobmesse Köln – Wir freuen uns, mit Ihnen ins Gespräch zu k
	ommen!</p><p>Samstag, 10 bis 16 Uhr Sonntag, 11 bis 17 Uhr</p><p>Eintritt:
	 5 Euro Eintritt frei: Schüler*innen, Azubis, Studierende, Rentner*innen, 
	Menschen mit Behinderung und deren Begleitung (Ausweismerkmal "B"), Erwerb
	slose, Transferleistungsbezieher*innen, Kinder bis 14 Jahre (jeweils mit e
	ntsprechendem Nac</p>
BEGIN:VALARM
ACTION:DISPLAY
DESCRIPTION:Jobmesse Köln
TRIGGER:-PT1H
END:VALARM
END:VEVENT
END:VCALENDAR
