BEGIN:VCALENDAR
VERSION:2.0
CALSCALE:GREGORIAN
PRODID:adamgibbons/ics
METHOD:PUBLISH
X-PUBLISHED-TTL:PT1H
BEGIN:VEVENT
UID:104@event.cologne
SUMMARY:Jeck im Sunnesching för Pänz 2026 – Das Familienfestival
DTSTAMP:20260420T182359Z
DTSTART:20260621T100000Z
DTEND:20260621T100000Z
URL:https://event.cologne/event/jeck-im-sunnesching-for-panz-2026-das-famil
	ienfestival
GEO:50.9459;6.97042
LOCATION:Tanzbrunnen - Rheinparkweg 1\, 50679 Köln
STATUS:CONFIRMED
CATEGORIES:
BEGIN:VALARM
ACTION:DISPLAY
DESCRIPTION:Jeck im Sunnesching för Pänz 2026 – Das Familienfestival
TRIGGER:-PT1H
END:VALARM
END:VEVENT
END:VCALENDAR
