BEGIN:VCALENDAR
VERSION:2.0
CALSCALE:GREGORIAN
PRODID:adamgibbons/ics
METHOD:PUBLISH
X-PUBLISHED-TTL:PT1H
BEGIN:VEVENT
UID:102@event.cologne
SUMMARY:Jeck im Sunnesching 2026 – Das Festival
DTSTAMP:20260420T182343Z
DTSTART:20260620T073000Z
DTEND:20260620T073000Z
URL:https://event.cologne/event/jeck-im-sunnesching-2026-das-festival
GEO:50.9459;6.97042
LOCATION:Tanzbrunnen - Rheinparkweg 1\, 50679 Köln
STATUS:CONFIRMED
CATEGORIES:
BEGIN:VALARM
ACTION:DISPLAY
DESCRIPTION:Jeck im Sunnesching 2026 – Das Festival
TRIGGER:-PT1H
END:VALARM
END:VEVENT
END:VCALENDAR
