BEGIN:VCALENDAR
VERSION:2.0
CALSCALE:GREGORIAN
PRODID:adamgibbons/ics
METHOD:PUBLISH
X-PUBLISHED-TTL:PT1H
BEGIN:VEVENT
UID:173@event.cologne
SUMMARY:Jazzin' RMS
DTSTAMP:20260420T181549Z
DTSTART:20260323T183000Z
DTEND:20260323T210000Z
DESCRIPTION:Ehrenfeld\n\nDas RMS Jazzorchester präsentiert Gesangssolist*in
	nen der Rheinischen\nMusikschule.\n\n19:30 Uhr\n\nEinttritt frei
URL:https://event.cologne/event/jazzin-rms
LOCATION:Rheinische Musikschule – Regionalschule Ehrenfeld - Vogelsanger St
	raße 28-32\, 50823 Köln
STATUS:CONFIRMED
CATEGORIES:Ehrenfeld,Konzert
X-ALT-DESC;FMTTYPE=text/html:<p><strong>Ehrenfeld</strong></p><p>Das RMS Ja
	zzorchester präsentiert Gesangssolist*innen der Rheinischen Musikschule.</
	p><p>19:30 Uhr</p><p>Einttritt frei</p>
BEGIN:VALARM
ACTION:DISPLAY
DESCRIPTION:Jazzin' RMS
TRIGGER:-PT1H
END:VALARM
END:VEVENT
END:VCALENDAR
