BEGIN:VCALENDAR
VERSION:2.0
CALSCALE:GREGORIAN
PRODID:adamgibbons/ics
METHOD:PUBLISH
X-PUBLISHED-TTL:PT1H
BEGIN:VEVENT
UID:741@event.cologne
SUMMARY:Internationaler Museumstag 2026
DTSTAMP:20260422T102229Z
DTSTART:20260517T170000Z
DTEND:20260518T200000Z
DESCRIPTION:Unsere Museen bieten Ihnen wieder ein spannendes und abwechslun
	gsreiches\nProgramm zum Internationalen Museumstag.\n\nab 10 Uhr
URL:https://event.cologne/event/internationaler-museumstag-2026
LOCATION:Verschiedene Veranstaltungsorte in - \,  Köln
STATUS:CONFIRMED
CATEGORIES:Museum
X-ALT-DESC;FMTTYPE=text/html:<p>Unsere Museen bieten Ihnen wieder ein spann
	endes und abwechslungsreiches Programm zum Internationalen Museumstag.</p>
	<p>ab 10 Uhr</p>
BEGIN:VALARM
ACTION:DISPLAY
DESCRIPTION:Internationaler Museumstag 2026
TRIGGER:-PT1H
END:VALARM
END:VEVENT
END:VCALENDAR
