BEGIN:VCALENDAR
VERSION:2.0
CALSCALE:GREGORIAN
PRODID:adamgibbons/ics
METHOD:PUBLISH
X-PUBLISHED-TTL:PT1H
BEGIN:VEVENT
UID:180@event.cologne
SUMMARY:Instrumentenkarussell der Rheinischen Musikschule – AUSGEBUCHT
DTSTAMP:20260420T182402Z
DTSTART:20260417T220000Z
DTEND:20260417T220000Z
DESCRIPTION:Ehrenfeld\n\nAlle Interessierten ab 6 Jahren sind herzlich eing
	eladen\, ihr Wunschinstrument\nzu finden.\n\n10 bis 17 Uhr Wir bieten vier
	 Zeitfenster an: 10 bis 11:20 Uhr 11:40 bis 13 Uhr\n14 bis 15:20 Uhr 15:40
	 bis 17 Uhr\n\n63 Euro pro Paket – Stornogebühren: bis 14 Tagen vor der Ve
	ranstaltung\nkostenfrei\, ab 13 Tagen vor der Veranstaltung 100 Prozent de
	s Betrages\, es sei\ndenn\, wir können Ihr Paket kurzfristig an andere Int
	eressent*innen vermitteln.
URL:https://event.cologne/event/instrumentenkarussell-der-rheinischen-musik
	schule-ausgebucht
LOCATION:Rheinische Musikschule Köln - Vogelsanger Straße 28-32\, 50823 Köl
	n
STATUS:CONFIRMED
CATEGORIES:Ehrenfeld,Konzert
X-ALT-DESC;FMTTYPE=text/html:<p><strong>Ehrenfeld</strong></p><p>Alle Inter
	essierten ab 6 Jahren sind herzlich eingeladen, ihr Wunschinstrument zu fi
	nden.</p><p>10 bis 17 Uhr Wir bieten vier Zeitfenster an: 10 bis 11:20 Uhr
	 11:40 bis 13 Uhr 14 bis 15:20 Uhr 15:40 bis 17 Uhr</p><p>63 Euro pro Pake
	t – Stornogebühren: bis 14 Tagen vor der Veranstaltung kostenfrei, ab 13 T
	agen vor der Veranstaltung 100 Prozent des Betrages, es sei denn, wir könn
	en Ihr Paket kurzfristig an andere Interessent*innen vermitteln.</p>
BEGIN:VALARM
ACTION:DISPLAY
DESCRIPTION:Instrumentenkarussell der Rheinischen Musikschule – AUSGEBUCHT
TRIGGER:-PT1H
END:VALARM
END:VEVENT
END:VCALENDAR
