BEGIN:VCALENDAR
VERSION:2.0
CALSCALE:GREGORIAN
PRODID:adamgibbons/ics
METHOD:PUBLISH
X-PUBLISHED-TTL:PT1H
BEGIN:VEVENT
UID:91@event.cologne
SUMMARY:Ingrid Kühne – Ja\, aber ohne mich!
DTSTAMP:20260420T182322Z
DTSTART:20270410T170000Z
DTEND:20270410T170000Z
DESCRIPTION:Bestuhlt
URL:https://event.cologne/event/ingrid-kuhne-ja-aber-ohne-mich
GEO:50.9459;6.97042
LOCATION:Tanzbrunnen - Rheinparkweg 1\, 50679 Köln
STATUS:CONFIRMED
CATEGORIES:
X-ALT-DESC;FMTTYPE=text/html:<p>Bestuhlt</p>
BEGIN:VALARM
ACTION:DISPLAY
DESCRIPTION:Ingrid Kühne – Ja, aber ohne mich!
TRIGGER:-PT1H
END:VALARM
END:VEVENT
END:VCALENDAR
