BEGIN:VCALENDAR
VERSION:2.0
CALSCALE:GREGORIAN
PRODID:adamgibbons/ics
METHOD:PUBLISH
X-PUBLISHED-TTL:PT1H
BEGIN:VEVENT
UID:662@event.cologne
SUMMARY:Informationsveranstaltung: Wege zur Einbürgerung
DTSTAMP:20260420T182201Z
DTSTART:20260509T170000Z
DTEND:20260509T200000Z
DESCRIPTION:Das Bürgeramt mit seinem Bereich Stärkung und Koordinierung des
	 Ehrenamtes im\nFlüchtlingsbereich des Stadtbezirks Porz informiert über d
	ie Einbürgerung.\n\nBeginn: 10 Uhr\n\nKostenlos
URL:https://event.cologne/event/informationsveranstaltung-wege-zur-einburge
	rung
GEO:50.885;7.05481
LOCATION:Matthias-Chlasta-Saal - Alfred-Moritz-Platz 1\, 51143 Köln
STATUS:CONFIRMED
CATEGORIES:EintrittFrei,Porz
X-ALT-DESC;FMTTYPE=text/html:<p>Das Bürgeramt mit seinem Bereich Stärkung u
	nd Koordinierung des Ehrenamtes im Flüchtlingsbereich des Stadtbezirks Por
	z informiert über die Einbürgerung.</p><p><strong>Beginn:</strong> 10 Uhr<
	/p><p>Kostenlos</p>
BEGIN:VALARM
ACTION:DISPLAY
DESCRIPTION:Informationsveranstaltung: Wege zur Einbürgerung
TRIGGER:-PT1H
END:VALARM
END:VEVENT
END:VCALENDAR
