BEGIN:VCALENDAR
VERSION:2.0
CALSCALE:GREGORIAN
PRODID:adamgibbons/ics
METHOD:PUBLISH
X-PUBLISHED-TTL:PT1H
BEGIN:VEVENT
UID:181@event.cologne
SUMMARY:Impuls Plus: Musik im Flow
DTSTAMP:20260420T181658Z
DTSTART:20260421T153000Z
DTEND:20260421T200000Z
DESCRIPTION:Innenstadt\n\nRhythm mit Hayato Sumino am Klavier\, dem Aurora 
	Orchestra und Dirigent Nicholas\nCollon. Im Rahmen unseres Kulturprogramms
	. Einführungsgespräch im Interim\nZentralbibliothek mit anschließendem Kon
	zertbesuch in der Kölner Philharmonie.\n\n17:30 Uhr: Einführungsgespräch i
	m Interim Zentralbibliothek 18:30 Uhr: Führung\ndurch die Musikbibliothek 
	20 Uhr: Konzert in der Philharmonie\n\nDas Ticket kostet 21 Euro\, ermäßig
	t 10 Euro.
URL:https://event.cologne/event/impuls-plus-musik-im-flow
GEO:50.9371;6.95656
LOCATION:Interim Zentralbibliothek - Hohe Straße 68-82\, 50667 Köln
STATUS:CONFIRMED
CATEGORIES:Innenstadt,Konzert
X-ALT-DESC;FMTTYPE=text/html:<p><strong>Innenstadt</strong></p><p>Rhythm mi
	t Hayato Sumino am Klavier, dem Aurora Orchestra und Dirigent Nicholas Col
	lon. Im Rahmen unseres Kulturprogramms. Einführungsgespräch im Interim Zen
	tralbibliothek mit anschließendem Konzertbesuch in der Kölner Philharmonie
	.</p><p>17:30 Uhr: Einführungsgespräch im Interim Zentralbibliothek 18:30 
	Uhr: Führung durch die Musikbibliothek 20 Uhr: Konzert in der Philharmonie
	</p><p>Das Ticket kostet 21 Euro, ermäßigt 10 Euro.</p>
BEGIN:VALARM
ACTION:DISPLAY
DESCRIPTION:Impuls Plus: Musik im Flow
TRIGGER:-PT1H
END:VALARM
END:VEVENT
END:VCALENDAR
