BEGIN:VCALENDAR
VERSION:2.0
CALSCALE:GREGORIAN
PRODID:adamgibbons/ics
METHOD:PUBLISH
X-PUBLISHED-TTL:PT1H
BEGIN:VEVENT
UID:169@event.cologne
SUMMARY:im:NOW!2026 – 2. Improvisationsfestival der Rheinischen Musikschule
	 Köln
DTSTAMP:20260420T182346Z
DTSTART:20260314T180000Z
DTEND:20260314T190000Z
DESCRIPTION:Nippes\n\nDas Improvisationsfestival im:NOW! ist ein Kooperatio
	nsprojekt aller\nFachbereiche der Rheinischen Musikschule mit dem Ziel\, v
	erschiedenste Facetten\nvon Improvisation an einem Tag zu präsentieren.\n\
	n9:30 bis 20 Uhr\n\nZu den Konzerten: Eintritt frei. Zu den Workshops: Kin
	der und Jugendliche: 20\nEuro / 15 Euro (bei Voranmeldung) – Kinder und Ju
	gendliche\, die an der RMS\nUnterricht haben: freier Eintritt – Erwachsene
	: 35 Euro / 30 Euro (bei\nVoranmeldung)
URL:https://event.cologne/event/imnow2026-2-improvisationsfestival-der-rhei
	nischen-musikschule-koln
LOCATION:Rheinische Musikschule – Regionalschule Nord – Nippes - Turmstraße
	 3-7\, 50733 Köln
STATUS:CONFIRMED
CATEGORIES:Konzert,Nippes
X-ALT-DESC;FMTTYPE=text/html:<p><strong>Nippes</strong></p><p>Das Improvisa
	tionsfestival im:NOW! ist ein Kooperationsprojekt aller Fachbereiche der R
	heinischen Musikschule mit dem Ziel, verschiedenste Facetten von Improvisa
	tion an einem Tag zu präsentieren.</p><p>9:30 bis 20 Uhr</p><p>Zu den Konz
	erten: Eintritt frei. Zu den Workshops: Kinder und Jugendliche: 20 Euro / 
	15 Euro (bei Voranmeldung) – Kinder und Jugendliche, die an der RMS Unterr
	icht haben: freier Eintritt – Erwachsene: 35 Euro / 30 Euro (bei Voranmeld
	ung)</p>
BEGIN:VALARM
ACTION:DISPLAY
DESCRIPTION:im:NOW!2026 – 2. Improvisationsfestival der Rheinischen Musiksc
	hule Köln
TRIGGER:-PT1H
END:VALARM
END:VEVENT
END:VCALENDAR
