BEGIN:VCALENDAR
VERSION:2.0
CALSCALE:GREGORIAN
PRODID:adamgibbons/ics
METHOD:PUBLISH
X-PUBLISHED-TTL:PT1H
BEGIN:VEVENT
UID:33@event.cologne
SUMMARY:Ildikó von Kürthy – ALT GENUG
DTSTAMP:20260420T181712Z
DTSTART:20260407T170000Z
DTEND:20260407T170000Z
DESCRIPTION:… und dabei Tränen lachen. Mit Saskia Fischer und bestimmt eini
	gen anderen\nÜberraschungen.\nBestuhlt
URL:https://event.cologne/event/ildiko-von-kurthy-alt-genug
GEO:50.9459;6.97042
LOCATION:Tanzbrunnen - Rheinparkweg 1\, 50679 Köln
STATUS:CONFIRMED
CATEGORIES:
X-ALT-DESC;FMTTYPE=text/html:<p>… und dabei Tränen lachen. Mit Saskia Fisch
	er und bestimmt einigen anderen Überraschungen.<br>Bestuhlt</p>
BEGIN:VALARM
ACTION:DISPLAY
DESCRIPTION:Ildikó von Kürthy – ALT GENUG
TRIGGER:-PT1H
END:VALARM
END:VEVENT
END:VCALENDAR
