BEGIN:VCALENDAR
VERSION:2.0
CALSCALE:GREGORIAN
PRODID:adamgibbons/ics
METHOD:PUBLISH
X-PUBLISHED-TTL:PT1H
BEGIN:VEVENT
UID:731@event.cologne
SUMMARY:Herrensitzung Bürgergarde
DTSTAMP:20260420T181656Z
DTSTART:20270103T113000Z
DTEND:20270103T113000Z
DESCRIPTION:Vorverkauf nach Ostern
URL:https://event.cologne/event/herrensitzung-burgergarde
GEO:50.9366;6.95874
LOCATION:Gürzenich - Martinstraße 29-37\, 50667 Köln
STATUS:CONFIRMED
CATEGORIES:Karneval
X-ALT-DESC;FMTTYPE=text/html:<p>Vorverkauf nach Ostern</p>
BEGIN:VALARM
ACTION:DISPLAY
DESCRIPTION:Herrensitzung Bürgergarde
TRIGGER:-PT1H
END:VALARM
END:VEVENT
END:VCALENDAR
