BEGIN:VCALENDAR
VERSION:2.0
CALSCALE:GREGORIAN
PRODID:adamgibbons/ics
METHOD:PUBLISH
X-PUBLISHED-TTL:PT1H
BEGIN:VEVENT
UID:78@event.cologne
SUMMARY:Herbert Pixner
DTSTAMP:20260420T181532Z
DTSTART:20261119T190000Z
DTEND:20261119T190000Z
URL:https://event.cologne/event/herbert-pixner
GEO:50.9459;6.97042
LOCATION:Tanzbrunnen - Rheinparkweg 1\, 50679 Köln
STATUS:CONFIRMED
CATEGORIES:
BEGIN:VALARM
ACTION:DISPLAY
DESCRIPTION:Herbert Pixner
TRIGGER:-PT1H
END:VALARM
END:VEVENT
END:VCALENDAR
