BEGIN:VCALENDAR
VERSION:2.0
CALSCALE:GREGORIAN
PRODID:adamgibbons/ics
METHOD:PUBLISH
X-PUBLISHED-TTL:PT1H
BEGIN:VEVENT
UID:249@event.cologne
SUMMARY:Heike Geißler: Heinrich-Böll-Preisträgerin 2025
DTSTAMP:20260420T182403Z
DTSTART:20260326T183000Z
DTEND:20260326T210000Z
DESCRIPTION:Innenstadt\n\nLesung und Gespräch mit Heike Geißler und Mathias
	 Zeiske im Rahmen unseres\nKulturprogramms im Interim Zentralbibliothek.\n
	\n19:30 Uhr\n\nDer Eintritt ist frei.
URL:https://event.cologne/event/heike-geissler-heinrich-boll-preistragerin-
	2025
GEO:50.9371;6.95656
LOCATION:Interim Zentralbibliothek - Hohe Straße 68-82\, 50667 Köln
STATUS:CONFIRMED
CATEGORIES:Innenstadt,Literatur
X-ALT-DESC;FMTTYPE=text/html:<p><strong>Innenstadt</strong></p><p>Lesung un
	d Gespräch mit Heike Geißler und Mathias Zeiske im Rahmen unseres Kulturpr
	ogramms im Interim Zentralbibliothek.</p><p>19:30 Uhr</p><p>Der Eintritt i
	st frei.</p>
BEGIN:VALARM
ACTION:DISPLAY
DESCRIPTION:Heike Geißler: Heinrich-Böll-Preisträgerin 2025
TRIGGER:-PT1H
END:VALARM
END:VEVENT
END:VCALENDAR
