BEGIN:VCALENDAR
VERSION:2.0
CALSCALE:GREGORIAN
PRODID:adamgibbons/ics
METHOD:PUBLISH
X-PUBLISHED-TTL:PT1H
BEGIN:VEVENT
UID:230@event.cologne
SUMMARY:Hedi Hummel und die grauen Gärten
DTSTAMP:20260420T182207Z
DTSTART:20260412T130000Z
DTEND:20260412T200000Z
DESCRIPTION:Innenstadt\, EintrittFrei\n\nInteraktive Kinder-Lesung mit der 
	Autorin Alina Gries. Im Rahmen von Sonntags in\nder Bibliothek im Interim 
	Zentralbibliothek.\n\n15 Uhr\n\nDie Veranstaltung ist kostenlos.
URL:https://event.cologne/event/hedi-hummel-und-die-grauen-garten
GEO:50.9371;6.95656
LOCATION:Interim Zentralbibliothek - Hohe Straße 68-82\, 50667 Köln
STATUS:CONFIRMED
CATEGORIES:EintrittFrei,Innenstadt,Lesung
X-ALT-DESC;FMTTYPE=text/html:<p><strong>Innenstadt, EintrittFrei</strong></
	p><p>Interaktive Kinder-Lesung mit der Autorin Alina Gries. Im Rahmen von 
	Sonntags in der Bibliothek im Interim Zentralbibliothek.</p><p>15 Uhr</p><
	p>Die Veranstaltung ist kostenlos.</p>
BEGIN:VALARM
ACTION:DISPLAY
DESCRIPTION:Hedi Hummel und die grauen Gärten
TRIGGER:-PT1H
END:VALARM
END:VEVENT
END:VCALENDAR
