BEGIN:VCALENDAR
VERSION:2.0
CALSCALE:GREGORIAN
PRODID:adamgibbons/ics
METHOD:PUBLISH
X-PUBLISHED-TTL:PT1H
BEGIN:VEVENT
UID:709@event.cologne
SUMMARY:Haselbergstraße/Piusstraße in Köln-Lindenthal
DTSTAMP:20260420T163935Z
DTSTART:20260414T220000Z
DTEND:20260508T220000Z
DESCRIPTION:Innenstadt\n\nInformieren Sie sich zur Planung und geben Sie ei
	ne Stellungnahme ab.
URL:https://event.cologne/event/haselbergstrassepiusstrasse-in-koln-lindent
	hal
LOCATION:Stadthaus Deutz\, Ladenlokal 5 - Öffentlichkeitsbeteiligung des St
	adtplanungsamtes\, Willy-Brandt-Platz 2\, 50679 Köln
STATUS:CONFIRMED
CATEGORIES:Innenstadt
X-ALT-DESC;FMTTYPE=text/html:<p><strong>Innenstadt</strong></p><p>Informier
	en Sie sich zur Planung und geben Sie eine Stellungnahme ab.</p>
BEGIN:VALARM
ACTION:DISPLAY
DESCRIPTION:Haselbergstraße/Piusstraße in Köln-Lindenthal
TRIGGER:-PT1H
END:VALARM
END:VEVENT
END:VCALENDAR
