BEGIN:VCALENDAR
VERSION:2.0
CALSCALE:GREGORIAN
PRODID:adamgibbons/ics
METHOD:PUBLISH
X-PUBLISHED-TTL:PT1H
BEGIN:VEVENT
UID:167@event.cologne
SUMMARY:Guter Rat muss nicht teuer sein
DTSTAMP:20260420T182214Z
DTSTART:20260416T080000Z
DTEND:20260416T100000Z
DESCRIPTION:Innenstadt\n\nEin kostenloses Beratungsangebot für Menschen ab 
	60 rund um die Themen Computer\,\nSmartphone und Tablet.\n\n10 bis 12 Uhr\
	n\nDie Teilnahme ist kostenlos
URL:https://event.cologne/event/guter-rat-muss-nicht-teuer-sein
LOCATION:VHS im KOMED - Im Mediapark 7\, 50670 Köln
STATUS:CONFIRMED
CATEGORIES:Innenstadt
X-ALT-DESC;FMTTYPE=text/html:<p><strong>Innenstadt</strong></p><p>Ein koste
	nloses Beratungsangebot für Menschen ab 60 rund um die Themen Computer, Sm
	artphone und Tablet.</p><p>10 bis 12 Uhr</p><p>Die Teilnahme ist kostenlos
	</p>
BEGIN:VALARM
ACTION:DISPLAY
DESCRIPTION:Guter Rat muss nicht teuer sein
TRIGGER:-PT1H
END:VALARM
END:VEVENT
END:VCALENDAR
