BEGIN:VCALENDAR
VERSION:2.0
CALSCALE:GREGORIAN
PRODID:adamgibbons/ics
METHOD:PUBLISH
X-PUBLISHED-TTL:PT1H
BEGIN:VEVENT
UID:410@event.cologne
SUMMARY:Großeltern-Café
DTSTAMP:20260420T181549Z
DTSTART:20260423T100000Z
DTEND:20260423T120000Z
DESCRIPTION:Innenstadt\, EintrittFrei\n\nDie Social-Media- und Gaming-Welt 
	der Enkelkinder kennenlernen. Im Rahmen der\nReihe Digitale Werkstatt im I
	nterim Zentralbibliothek.\n\n12 bis 14 Uhr\n\nDie Teilnahme ist kostenlos.
URL:https://event.cologne/event/grosseltern-cafe
GEO:50.9371;6.95656
LOCATION:Interim Zentralbibliothek - Hohe Straße 68-82\, 50667 Köln
STATUS:CONFIRMED
CATEGORIES:EintrittFrei,Innenstadt
X-ALT-DESC;FMTTYPE=text/html:<p><strong>Innenstadt, EintrittFrei</strong></
	p><p>Die Social-Media- und Gaming-Welt der Enkelkinder kennenlernen. Im Ra
	hmen der Reihe Digitale Werkstatt im Interim Zentralbibliothek.</p><p>12 b
	is 14 Uhr</p><p>Die Teilnahme ist kostenlos.</p>
BEGIN:VALARM
ACTION:DISPLAY
DESCRIPTION:Großeltern-Café
TRIGGER:-PT1H
END:VALARM
END:VEVENT
END:VCALENDAR
