BEGIN:VCALENDAR
VERSION:2.0
CALSCALE:GREGORIAN
PRODID:adamgibbons/ics
METHOD:PUBLISH
X-PUBLISHED-TTL:PT1H
BEGIN:VEVENT
UID:49@event.cologne
SUMMARY:greenbeats Tour 2026
DTSTAMP:20260420T181711Z
DTSTART:20260517T160000Z
DTEND:20260517T160000Z
URL:https://event.cologne/event/greenbeats-tour-2026
GEO:50.9459;6.97042
LOCATION:Tanzbrunnen - Rheinparkweg 1\, 50679 Köln
STATUS:CONFIRMED
CATEGORIES:
BEGIN:VALARM
ACTION:DISPLAY
DESCRIPTION:greenbeats Tour 2026
TRIGGER:-PT1H
END:VALARM
END:VEVENT
END:VCALENDAR
