BEGIN:VCALENDAR
VERSION:2.0
CALSCALE:GREGORIAN
PRODID:adamgibbons/ics
METHOD:PUBLISH
X-PUBLISHED-TTL:PT1H
BEGIN:VEVENT
UID:139@event.cologne
SUMMARY:Glenn Miller Orchestra
DTSTAMP:20260420T181700Z
DTSTART:20260315T180000Z
DTEND:20260315T180000Z
DESCRIPTION:The Best of Glenn Miller\nBestuhlt
URL:https://event.cologne/event/glenn-miller-orchestra
GEO:50.9366;6.95874
LOCATION:Gürzenich - Martinstraße 29-37\, 50667 Köln
STATUS:CONFIRMED
CATEGORIES:
X-ALT-DESC;FMTTYPE=text/html:<p>The Best of Glenn Miller<br>Bestuhlt</p>
BEGIN:VALARM
ACTION:DISPLAY
DESCRIPTION:Glenn Miller Orchestra
TRIGGER:-PT1H
END:VALARM
END:VEVENT
END:VCALENDAR
