BEGIN:VCALENDAR
VERSION:2.0
CALSCALE:GREGORIAN
PRODID:adamgibbons/ics
METHOD:PUBLISH
X-PUBLISHED-TTL:PT1H
BEGIN:VEVENT
UID:144@event.cologne
SUMMARY:Giora Feidman – For a Better World
DTSTAMP:20260420T181726Z
DTSTART:20261216T180000Z
DTEND:20261216T180000Z
DESCRIPTION:Giora Feidmann Trio\nMit ihrem neuen Konzertprogramm “For a Bet
	ter World” schlagen Giora Feidman und\nder iranische Komponist Majid Monta
	zer ein weiteres bedeutendes Kapitel ihrer\nkünstlerischen Zusammenarbeit 
	auf. Nach den Erfolgsprogrammen “Friendship” und\n“Revolution of Love” füh
	ren sie ihre musikalische Botschaft fort: ein\nleidenschaftliches Plädoyer
	 für Frieden\, Menschlichkeit und Hoffnung.\nBestuhlt
URL:https://event.cologne/event/giora-feidman-for-a-better-world
GEO:50.9366;6.95874
LOCATION:Gürzenich - Martinstraße 29-37\, 50667 Köln
STATUS:CONFIRMED
CATEGORIES:
X-ALT-DESC;FMTTYPE=text/html:<p>Giora Feidmann Trio<br>Mit ihrem neuen Konz
	ertprogramm “For a Better World” schlagen Giora Feidman und der iranische 
	Komponist Majid Montazer ein weiteres bedeutendes Kapitel ihrer künstleris
	chen Zusammenarbeit auf. Nach den Erfolgsprogrammen “Friendship” und “Revo
	lution of Love” führen sie ihre musikalische Botschaft fort: ein leidensch
	aftliches Plädoyer für Frieden, Menschlichkeit und Hoffnung.<br>Bestuhlt</
	p>
BEGIN:VALARM
ACTION:DISPLAY
DESCRIPTION:Giora Feidman – For a Better World
TRIGGER:-PT1H
END:VALARM
END:VEVENT
END:VCALENDAR
