BEGIN:VCALENDAR
VERSION:2.0
CALSCALE:GREGORIAN
PRODID:adamgibbons/ics
METHOD:PUBLISH
X-PUBLISHED-TTL:PT1H
BEGIN:VEVENT
UID:278@event.cologne
SUMMARY:Geometrie und Farbe
DTSTAMP:20260420T181540Z
DTSTART:20260407T120000Z
DTEND:20260407T150000Z
DESCRIPTION:Innenstadt\, EintrittFrei\n\nEin Kunstworkshop im Rahmen unsere
	s Programms Maker Kids in den Osterferien. Im\nInterim Zentralbibliothek.\
	n\n14 bis 17 Uhr\n\nDie Teilnahme ist kostenlos.
URL:https://event.cologne/event/geometrie-und-farbe
GEO:50.9371;6.95656
LOCATION:Interim Zentralbibliothek - Hohe Straße 68-82\, 50667 Köln
STATUS:CONFIRMED
CATEGORIES:EintrittFrei,Familie,Innenstadt
X-ALT-DESC;FMTTYPE=text/html:<p><strong>Innenstadt, EintrittFrei</strong></
	p><p>Ein Kunstworkshop im Rahmen unseres Programms Maker Kids in den Oster
	ferien. Im Interim Zentralbibliothek.</p><p>14 bis 17 Uhr</p><p>Die Teilna
	hme ist kostenlos.</p>
BEGIN:VALARM
ACTION:DISPLAY
DESCRIPTION:Geometrie und Farbe
TRIGGER:-PT1H
END:VALARM
END:VEVENT
END:VCALENDAR
