BEGIN:VCALENDAR
VERSION:2.0
CALSCALE:GREGORIAN
PRODID:adamgibbons/ics
METHOD:PUBLISH
X-PUBLISHED-TTL:PT1H
BEGIN:VEVENT
UID:784@event.cologne
SUMMARY:Gehörlosen-Badminton-Landesmeisterschaften 2026 in Köln
DTSTAMP:20260424T191812Z
DTSTART:20260426T071500Z
DTEND:20260426T140000Z
DESCRIPTION:Am Sonntag\, 26. April 2026\, wird Köln Austragungsort der 9.\n
	Gehörlosen-Badminton-Landesmeisterschaften. Sportler*innen aus ganz\nNordr
	hein-Westfalen kommen in der Sporthalle der Gesamtschule Holweide\,\nBurgw
	iesenstraße 125\, Köln-Holweide\, zusammen\, um sich im sportlichen Wettka
	mpf\nzu messen.\n\nAusgetragen wird die Veranstaltung vom Gehörlosen-Sport
	verband\nNordrhein-Westfalen e.V. in Zusammenarbeit mit dem Kölner Gehörlo
	sen Sportverein\n1902 e.V.. Die Auslosung der Begegnungen ist für 9.15 Uhr
	 vorgesehen\, woraufhin\num 10 Uhr der offizielle Wettkampfbeginn folgt. D
	ie Meisterschaften umfassen die\nDisziplinen Einzel\, Doppel und Mixed. Te
	ilnehmen können Spieler*innen mit\ngültiger Wettkampfberechtigung im Badmi
	nton des Deutschen\nGehörlosen-Sportverbandes.\n\nDas Turnier ist in diese
	m Jahr erstmalig Teil des Kölner Sportjahres\, welches\nüber 30 Veranstalt
	ungen mit nationaler und internationaler Strahlkraft vereint.\nAls erstes 
	Badminton-Event im Kölner Sportjahr setzt die Veranstaltung ein\nZeichen f
	ür sportliche Vielfalt sowie für mehr Sichtbarkeit und die Förderung\ndes 
	inklusiven Sports in Köln.
URL:https://event.cologne/event/gehorlosen-badminton-landesmeisterschaften-
	2026-in-koln
GEO:50.9615;7.03983
LOCATION:Gesamtschule Holweide - Burgwiesenstraße 125\, 51067 Köln
STATUS:CONFIRMED
CATEGORIES:Mülheim,Sport
X-ALT-DESC;FMTTYPE=text/html:<p></p><p>Am Sonntag, 26. April 2026, wird Köl
	n Austragungsort der 9. Gehörlosen-Badminton-Landesmeisterschaften. Sportl
	er*innen aus ganz Nordrhein-Westfalen kommen in der Sporthalle der Gesamts
	chule Holweide, Burgwiesenstraße 125, Köln-Holweide, zusammen, um sich im 
	sportlichen Wettkampf zu messen.</p><p>Ausgetragen wird die Veranstaltung 
	vom Gehörlosen-Sportverband Nordrhein-Westfalen e.V. in Zusammenarbeit mit
	 dem Kölner Gehörlosen Sportverein 1902 e.V.. Die Auslosung der Begegnunge
	n ist für 9.15 Uhr vorgesehen, woraufhin um 10 Uhr der offizielle Wettkamp
	fbeginn folgt. Die Meisterschaften umfassen die Disziplinen Einzel, Doppel
	 und Mixed. Teilnehmen können Spieler*innen mit gültiger Wettkampfberechti
	gung im Badminton des Deutschen Gehörlosen-Sportverbandes.</p><p>Das Turni
	er ist in diesem Jahr erstmalig Teil des Kölner Sportjahres, welches über 
	30 Veranstaltungen mit nationaler und internationaler Strahlkraft vereint.
	 Als erstes Badminton-Event im Kölner Sportjahr setzt die Veranstaltung ei
	n Zeichen für sportliche Vielfalt sowie für mehr Sichtbarkeit und die Förd
	erung des inklusiven Sports in Köln.</p>
BEGIN:VALARM
ACTION:DISPLAY
DESCRIPTION:Gehörlosen-Badminton-Landesmeisterschaften 2026 in Köln
TRIGGER:-PT1H
END:VALARM
END:VEVENT
END:VCALENDAR
