BEGIN:VCALENDAR
VERSION:2.0
CALSCALE:GREGORIAN
PRODID:adamgibbons/ics
METHOD:PUBLISH
X-PUBLISHED-TTL:PT1H
BEGIN:VEVENT
UID:740@event.cologne
SUMMARY:Führung zum internationalen Museumstag im Skulpturenpark Köln
DTSTAMP:20260422T101802Z
DTSTART:20260517T170000Z
DTEND:20260517T200000Z
DESCRIPTION:Im Skulpturenpark zeigen wir in Form von Wechselausstellungen e
	ine große\nBandbreite moderner zeitgenössischer Außenskulpturen unter frei
	em Himmel.\n\nErste Führung: 11 Uhr Zweite Führung: 15 Uhr Familienführung
	: 15 Uhr\n\nDie Führungen zum internationalen Museumstag sind kostenlos.
URL:https://event.cologne/event/fuhrung-zum-internationalen-museumstag-im-s
	kulpturenpark-koln
LOCATION:Skulpturenpark Köln - Riehler Straße \, 50668 Köln
STATUS:CONFIRMED
CATEGORIES:Ausstellung,Innenstadt
X-ALT-DESC;FMTTYPE=text/html:<p>Im Skulpturenpark zeigen wir in Form von We
	chselausstellungen eine große Bandbreite moderner zeitgenössischer Außensk
	ulpturen unter freiem Himmel.</p><p>Erste Führung: 11 Uhr Zweite Führung: 
	15 Uhr Familienführung: 15 Uhr</p><p>Die Führungen zum internationalen Mus
	eumstag sind kostenlos.</p>
BEGIN:VALARM
ACTION:DISPLAY
DESCRIPTION:Führung zum internationalen Museumstag im Skulpturenpark Köln
TRIGGER:-PT1H
END:VALARM
END:VEVENT
END:VCALENDAR
